BEGIN:VCALENDAR
VERSION:2.0
PRODID:TU Chemnitz
METHOD:PUBLISH
X-WR-CALNAME:Veranstaltungen der TU Chemnitz
X-WR-TIMEZONE:Europe/Berlin
BEGIN:VEVENT
CLASS:PUBLIC
DTSTART;TZID="Europe/Berlin":20040519T210000
DTEND;TZID="Europe/Berlin":20040519T210000
LOCATION:Bunker-Club * Chemnitz * Rosenplatz (gleich am Campus)
SUMMARY:Moonlight Classics - *live* im Bunker
DESCRIPTION:Astreiner Rock'n'Roll der 50er mit allem was das Genre hergeben kann. Lets Rock\, Baby ...\nAnschliessend After-Show-Party bis in den frühen Morgen.
ORGANIZER:MAILTO:schneid@hrz.tu-chemnitz.de
UID:4821@www.tu-chemnitz.de
CREATED:20040519T131900Z
DTSTAMP:20210802T200857Z
END:VEVENT
END:VCALENDAR
