BEGIN:VCALENDAR
VERSION:2.0
PRODID:TU Chemnitz
METHOD:PUBLISH
X-WR-CALNAME:Veranstaltungen der TU Chemnitz
X-WR-TIMEZONE:Europe/Berlin
BEGIN:VEVENT
CLASS:PUBLIC
DTSTART;TZID="Europe/Berlin":20040518T190000
DTEND;TZID="Europe/Berlin":20040518T235900
LOCATION:Reichenhainer Str. 55\, Chemnitz (Mensa)
SUMMARY:TaC: Sex and the City Kneipe (TU Chemnitz)
DESCRIPTION:.....Dienstag ist "Sex in the City"....wie immer \nBillard und Dart for free\, das \nBier zu 99 Cent und einige andere Getränkeüberraschungen...wer will schaut bei der \nCampusmeisterschaft im Tischkicker zu....
ORGANIZER:MAILTO:made@hrz.tu-chemnitz.de
UID:4800@www.tu-chemnitz.de
CREATED:20040517T142700Z
DTSTAMP:20210802T200906Z
END:VEVENT
END:VCALENDAR
