BEGIN:VCALENDAR
VERSION:2.0
PRODID:TU Chemnitz
METHOD:PUBLISH
X-WR-CALNAME:Veranstaltungen der TU Chemnitz
X-WR-TIMEZONE:Europe/Berlin
BEGIN:VEVENT
CLASS:PUBLIC
DTSTART;TZID="Europe/Berlin":20040521T190000
DTEND;TZID="Europe/Berlin":20040521T200000
LOCATION:Villa Koerner\, Beyerstr. 25
SUMMARY:Die Rolle von Ingenieuren bei der Planung\, Realisierung und Erhaltung technischer Kunstobjekte (Fakultät für Naturwissenschaften)
DESCRIPTION:Gemeinschaftsveranstaltung mit der Henry-van-deVelde-Gesellschaft Sachsen\nProf. Werner Lorke\, Offenbach\nProf. Dr. C. von Borczyskowski\, 5313035
ORGANIZER:MAILTO:cvb@hrz.tu-chemnitz.de
UID:4797@www.tu-chemnitz.de
CREATED:20040517T092100Z
DTSTAMP:20210802T200903Z
END:VEVENT
END:VCALENDAR
