BEGIN:VCALENDAR
VERSION:2.0
PRODID:TU Chemnitz
METHOD:PUBLISH
X-WR-CALNAME:Veranstaltungen der TU Chemnitz
X-WR-TIMEZONE:Europe/Berlin
BEGIN:VEVENT
CLASS:PUBLIC
DTSTART;TZID="Europe/Berlin":20040526T140000
DTEND;TZID="Europe/Berlin":20040526T153000
LOCATION:Str. der Nationen 62\, Chemnitz (Böttcher-Bau)
SUMMARY:Fachkolloquium: Forschungssemester in Lateinamerika (Chile\, Mexiko) (Fakultät für Informatik)
DESCRIPTION:Alle interessierten Personen sind herzlich eingeladen!\nProf. Dr.-Ing. Petr Kroha (TU Chemnitz)\nkolloquium@informatik.tu-chemnitz.de
ORGANIZER:MAILTO:lro@hrz.tu-chemnitz.de
UID:4790@www.tu-chemnitz.de
CREATED:20040514T154400Z
DTSTAMP:20210802T200858Z
END:VEVENT
END:VCALENDAR
