BEGIN:VCALENDAR
VERSION:2.0
PRODID:TU Chemnitz
METHOD:PUBLISH
X-WR-CALNAME:Veranstaltungen der TU Chemnitz
X-WR-TIMEZONE:Europe/Berlin
BEGIN:VEVENT
CLASS:PUBLIC
DTSTART;TZID="Europe/Berlin":20040514T210000
DTEND;TZID="Europe/Berlin":20040514T210000
LOCATION:Bunker-Club * Chemnitz * Rosenplatz (gleich am Campus)
SUMMARY:[Bunker-Club] PANI LUDA meets Jah Jah Bangds (live * Reggae)
DESCRIPTION:Pani Luda (Reggae aus Berlin)  \nJah Jah Bangds on decks with reggae\, ragga\, dancehall\, ...
ORGANIZER:MAILTO:schneid@hrz.tu-chemnitz.de
UID:4789@www.tu-chemnitz.de
CREATED:20040514T145400Z
DTSTAMP:20210802T200906Z
END:VEVENT
END:VCALENDAR
