BEGIN:VCALENDAR
VERSION:2.0
PRODID:TU Chemnitz
METHOD:PUBLISH
X-WR-CALNAME:Veranstaltungen der TU Chemnitz
X-WR-TIMEZONE:Europe/Berlin
BEGIN:VEVENT
CLASS:PUBLIC
DTSTART;TZID="Europe/Berlin":20040514T220000
DTEND;TZID="Europe/Berlin":20040515T040000
LOCATION:Reichenhainer Str. 55\, Chemnitz (Mensa)
SUMMARY:Chaos and Art-Party Mensa (Chaos and Art e. V.)
DESCRIPTION:Die beste DJ-Crew...wat gibt auf der Welt\, ...live aus \nDresden....und wer nicht weiß wer das ist...schaut am besten heute vorbei\nEintritt: 3\,00 EUR
ORGANIZER:MAILTO:made@hrz.tu-chemnitz.de
UID:4788@www.tu-chemnitz.de
CREATED:20040514T091100Z
DTSTAMP:20210802T200855Z
END:VEVENT
END:VCALENDAR
