BEGIN:VCALENDAR
VERSION:2.0
PRODID:TU Chemnitz
METHOD:PUBLISH
X-WR-CALNAME:Veranstaltungen der TU Chemnitz
X-WR-TIMEZONE:Europe/Berlin
BEGIN:VEVENT
CLASS:PUBLIC
DTSTART;TZID="Europe/Berlin":20040510T120000
DTEND;TZID="Europe/Berlin":20040510T200000
LOCATION:Reichenhainer Str. 55\, Chemnitz (Mensa)
SUMMARY:VVK zum 1. Chemnitzer Bergfest mit "The Pipelines" (Ars Vivendi e.V. / Moonlightdancing)
DESCRIPTION:Karten für das 1. Chemnitzer Bergfest\, mit den italienischen Beachboys "The Pipelines"\, bekommen alle Gipfelstürmer von 12-14 Uhr im Foyer der Mensa. Studenten 3\,50 € / Andere 5\,50 €. Der Berg groovt.\nArs Vivendi e.V. / Moonlightdancing\ninfo@moonlightdancing.de
ORGANIZER:MAILTO:daa@hrz.tu-chemnitz.de
UID:4774@www.tu-chemnitz.de
CREATED:20040510T114200Z
DTSTAMP:20210802T200859Z
END:VEVENT
END:VCALENDAR
