BEGIN:VCALENDAR
VERSION:2.0
PRODID:TU Chemnitz
METHOD:PUBLISH
X-WR-CALNAME:Veranstaltungen der TU Chemnitz
X-WR-TIMEZONE:Europe/Berlin
BEGIN:VEVENT
CLASS:PUBLIC
DTSTART;TZID="Europe/Berlin":20041021T090000
DTEND;TZID="Europe/Berlin":20041021T170000
LOCATION:Reichenhainer Str. 90\, Chemnitz (Zentr. Hörsaal- und Seminargebäude)
SUMMARY:Tagung "Forschung rund ums Automobil" (TU Chemnitz)
DESCRIPTION: Prof. Dr. Wolfram Dötzel\, Prorektor für Forschung\, Tel. 531-1717
ORGANIZER:MAILTO:iroe@hrz.tu-chemnitz.de
UID:4764@www.tu-chemnitz.de
CREATED:20040507T133400Z
DTSTAMP:20210802T200538Z
END:VEVENT
END:VCALENDAR
