BEGIN:VCALENDAR
VERSION:2.0
PRODID:TU Chemnitz
METHOD:PUBLISH
X-WR-CALNAME:Veranstaltungen der TU Chemnitz
X-WR-TIMEZONE:Europe/Berlin
BEGIN:VEVENT
CLASS:PUBLIC
DTSTART;TZID="Europe/Berlin":20040510T153000
DTEND;TZID="Europe/Berlin":20040510T170000
LOCATION:Reichenhainer Str. 90\, Chemnitz (Zentr. Hörsaal- und Seminargebäude)
SUMMARY:Kolloquium des SFB 379 "Mikromechanische Sensor- und Aktorarrays": NANOPARTICLES FOR NANOELECTRONICS  (Fakultät für Elektrotechnik und Informationstechnik\, Zentrum für Mikrotechnologien (ZfM))
DESCRIPTION:Diskutiert werden Leitungsmechanismen in dünnen Schichten sowie neuartige SET-Bauelemente (Single electron transistor).\nProf. James Morris\, Department of Electr. & Computer Engn.\, Portland State Univ.\, USA\nDr. Seckel\, 531 3261
ORGANIZER:MAILTO:seckel@hrz.tu-chemnitz.de
UID:4762@www.tu-chemnitz.de
CREATED:20040507T131200Z
DTSTAMP:20210802T200901Z
END:VEVENT
END:VCALENDAR
