BEGIN:VCALENDAR
VERSION:2.0
PRODID:TU Chemnitz
METHOD:PUBLISH
X-WR-CALNAME:Veranstaltungen der TU Chemnitz
X-WR-TIMEZONE:Europe/Berlin
BEGIN:VEVENT
CLASS:PUBLIC
DTSTART;TZID="Europe/Berlin":19990601T160000
DTEND;TZID="Europe/Berlin":19990601T160000
LOCATION:Uni-Teil 3: Reichenhainer Str. 70\, Chemnitz (Weinhold-Bau)
SUMMARY:"Synthese von kettensteifen Makromolekülen durch metall-katalysierte Polyreaktionen" (Fakultät für Maschinenbau und Verfahrenstechnik\, Fakultät für Naturwissenschaften)
DESCRIPTION:Prof. Dr. Walter Heitz\, Philipps-Universität Marburg\nProf. Dr. Günter Mennig\, Tel. 5 31-23 83
ORGANIZER:MAILTO:iroe@hrz.tu-chemnitz.de
UID:476@www.tu-chemnitz.de
CREATED:19990426T083300Z
DTSTAMP:20210802T203415Z
END:VEVENT
END:VCALENDAR
