BEGIN:VCALENDAR
VERSION:2.0
PRODID:TU Chemnitz
METHOD:PUBLISH
X-WR-CALNAME:Veranstaltungen der TU Chemnitz
X-WR-TIMEZONE:Europe/Berlin
BEGIN:VEVENT
CLASS:PUBLIC
DTSTART;TZID="Europe/Berlin":20040511T200000
DTEND;TZID="Europe/Berlin":20040512T010000
LOCATION:Reichenhainer Str. 55\, Chemnitz (Mensa)
SUMMARY:"Sex and the city" - Bar im TaC (Treff am Campus)
DESCRIPTION:Wie immer mit den beliebten Cocktails Cosmopolitan und Vanilla Hunk zum Specialprice.
ORGANIZER:MAILTO:piek@hrz.tu-chemnitz.de
UID:4754@www.tu-chemnitz.de
CREATED:20040506T144900Z
DTSTAMP:20210802T200857Z
END:VEVENT
END:VCALENDAR
