BEGIN:VCALENDAR
VERSION:2.0
PRODID:TU Chemnitz
METHOD:PUBLISH
X-WR-CALNAME:Veranstaltungen der TU Chemnitz
X-WR-TIMEZONE:Europe/Berlin
BEGIN:VEVENT
CLASS:PUBLIC
DTSTART;TZID="Europe/Berlin":20040509T170000
DTEND;TZID="Europe/Berlin":20040509T193000
LOCATION:Reichenhainer Str. 55\, Chemnitz (Mensa)
SUMMARY:Bundesliga Bar im Tac (Treff am Campus)
DESCRIPTION:Bochum : Freiburg\nRostock : 1860 München
ORGANIZER:MAILTO:piek@hrz.tu-chemnitz.de
UID:4752@www.tu-chemnitz.de
CREATED:20040506T144500Z
DTSTAMP:20210802T200848Z
END:VEVENT
END:VCALENDAR
