BEGIN:VCALENDAR
VERSION:2.0
PRODID:TU Chemnitz
METHOD:PUBLISH
X-WR-CALNAME:Veranstaltungen der TU Chemnitz
X-WR-TIMEZONE:Europe/Berlin
BEGIN:VEVENT
CLASS:PUBLIC
DTSTART;TZID="Europe/Berlin":20040623T190000
DTEND;TZID="Europe/Berlin":20040623T203000
LOCATION:Reichenhainer Str. 90\, Chemnitz (Zentr. Hörsaal- und Seminargebäude)
SUMMARY:UNI goes UNO! Chemnitzer Studenten bei den Vereinten Nationen (Philosophische Fakultät\, Professur Internationale Politik)
DESCRIPTION:Bericht über die Teilnahme von Chemnitzer Studierenden am National Model United Nations (NMUN) 2004 in New York und Informationen über die Teilnahmemöglichkeiten am NMUN 2005\nMitglieder der Chemnitzer NMUN-Delegation 2004\nPD Dr. Wolfram Hilz\, wolfram.hilz@phil.tu-chemnitz.de
ORGANIZER:MAILTO:hilz@hrz.tu-chemnitz.de
UID:4750@www.tu-chemnitz.de
CREATED:20040506T131100Z
DTSTAMP:20210802T200804Z
END:VEVENT
END:VCALENDAR
