BEGIN:VCALENDAR
VERSION:2.0
PRODID:TU Chemnitz
METHOD:PUBLISH
X-WR-CALNAME:Veranstaltungen der TU Chemnitz
X-WR-TIMEZONE:Europe/Berlin
BEGIN:VEVENT
CLASS:PUBLIC
DTSTART;TZID="Europe/Berlin":19990504T160000
DTEND;TZID="Europe/Berlin":19990504T160000
LOCATION:Uni-Teil 3: Reichenhainer Str. 70\, Chemnitz (Weinhold-Bau)
SUMMARY:"Abdichtung im Kfz-Motorenbereich - Stand der Technik und Entwicklungstendenzen " (Fakultät für Maschinenbau und Verfahrenstechnik\, Fakultät für Naturwissenschaften)
DESCRIPTION:Dr. Steffen Heine\, Dichtungstechnik G.BRUSS GmbH & Co. KG\, Hoisdorf\nProf. Dr. Günter Mennig\, Tel. 5 31-23 83
ORGANIZER:MAILTO:iroe@hrz.tu-chemnitz.de
UID:475@www.tu-chemnitz.de
CREATED:19990426T081700Z
DTSTAMP:20210802T203421Z
END:VEVENT
END:VCALENDAR
