BEGIN:VCALENDAR
VERSION:2.0
PRODID:TU Chemnitz
METHOD:PUBLISH
X-WR-CALNAME:Veranstaltungen der TU Chemnitz
X-WR-TIMEZONE:Europe/Berlin
BEGIN:VEVENT
CLASS:PUBLIC
DTSTART;TZID="Europe/Berlin":20040602T171500
DTEND;TZID="Europe/Berlin":20040602T184500
LOCATION:Reichenhainer Str. 90\, Chemnitz (Zentr. Hörsaal- und Seminargebäude)
SUMMARY:Europa wächst zusammen! Chemnitzer Studierende aus den alten und neuen EU-Ländern berichten (Philosophische Fakultät\, Professur Internationale Politik)
DESCRIPTION:Erfahrungsbericht von Chemnitzer Studierenden nach der EU-Osterweiterung und vor der Europawahl aus den Beitrittsländern.\nChemnitzer Studierende und Gaststudierende\nPD Dr. Wolfram Hilz\, wolfram.hilz@phil.tu-chemnitz.de
ORGANIZER:MAILTO:hilz@hrz.tu-chemnitz.de
UID:4749@www.tu-chemnitz.de
CREATED:20040506T130400Z
DTSTAMP:20210802T200810Z
END:VEVENT
END:VCALENDAR
