BEGIN:VCALENDAR
VERSION:2.0
PRODID:TU Chemnitz
METHOD:PUBLISH
X-WR-CALNAME:Veranstaltungen der TU Chemnitz
X-WR-TIMEZONE:Europe/Berlin
BEGIN:VEVENT
CLASS:PUBLIC
DTSTART;TZID="Europe/Berlin":20040504T190000
DTEND;TZID="Europe/Berlin":20040504T190000
LOCATION:Kino * Reichenhainer Str. 35/37 * Keller
SUMMARY:[ Kino im "mittendrin"] Spiel mir das Lied vom Tod (Klassiker-Reihe) (Filmclub "mittendrin")
DESCRIPTION:Einer DER Klassiker der Filmgeschichte.\nKeine verstümmelte Fernsehversion!\nKein Video! Keine DVD!\nIn der 35mm-Kinofassung auf der Leinwand ... dort wo er hingehört!\n\nEinlass 20.30\nFilm 21.00
ORGANIZER:MAILTO:Sonstige
UID:4737@www.tu-chemnitz.de
CREATED:20040503T194600Z
DTSTAMP:20210802T200853Z
END:VEVENT
END:VCALENDAR
