BEGIN:VCALENDAR
VERSION:2.0
PRODID:TU Chemnitz
METHOD:PUBLISH
X-WR-CALNAME:Veranstaltungen der TU Chemnitz
X-WR-TIMEZONE:Europe/Berlin
BEGIN:VEVENT
CLASS:PUBLIC
DTSTART;TZID="Europe/Berlin":20040504T210000
DTEND;TZID="Europe/Berlin":20040505T030000
LOCATION:Vettersstr. 70/72\, Chemnitz (Studentenwohnheim)
SUMMARY:>>>BIG FPM<<< (FPM-Club)
DESCRIPTION:\n3 Etagen - 3 Floors - 5 DJs\n\nBlack/House - DJ Culture\, DJ Alex Hensen\nReggae/Dancehall - Sunomonto Crew\nX-Over/Disco - DJ David\n\nHeineken-Special: nur 1\,50 Euro\n\nCocktails by PEB-Crew\n\nEintritt frei\n
ORGANIZER:MAILTO:hoga@hrz.tu-chemnitz.de
UID:4718@www.tu-chemnitz.de
CREATED:20040502T172200Z
DTSTAMP:20210802T200900Z
END:VEVENT
END:VCALENDAR
