BEGIN:VCALENDAR
VERSION:2.0
PRODID:TU Chemnitz
METHOD:PUBLISH
X-WR-CALNAME:Veranstaltungen der TU Chemnitz
X-WR-TIMEZONE:Europe/Berlin
BEGIN:VEVENT
CLASS:PUBLIC
DTSTART;TZID="Europe/Berlin":20040505T213000
DTEND;TZID="Europe/Berlin":20040506T020000
LOCATION:PEB-Studentenkeller\, Reichenhainer Str.37
SUMMARY:PEB-Mittwochsdisco (PEB-Studentenkeller)
DESCRIPTION:  \nParty auf dem Campus - natürlich im PEB!\n\nAbtanzen\, Freunde treffen\, Spaß haben...\n\nDazu die besten Cocktails zu den günstigsten\nPreisen auf dem gesamten Campus!\n
ORGANIZER:MAILTO:thein@hrz.tu-chemnitz.de
UID:4713@www.tu-chemnitz.de
CREATED:20040430T112600Z
DTSTAMP:20210802T200853Z
END:VEVENT
END:VCALENDAR
