BEGIN:VCALENDAR
VERSION:2.0
PRODID:TU Chemnitz
METHOD:PUBLISH
X-WR-CALNAME:Veranstaltungen der TU Chemnitz
X-WR-TIMEZONE:Europe/Berlin
BEGIN:VEVENT
CLASS:PUBLIC
DTSTART;TZID="Europe/Berlin":20040723T143000
DTEND;TZID="Europe/Berlin":20040723T143000
LOCATION:Reichenhainer Str. 70\, Chemnitz (Rühlmann-Bau)
SUMMARY:Promotion (Fakultät für Maschinenbau)
DESCRIPTION:Beitrag zum Einsatz von unidirektional naturfaserverstärkten thermoplastischen Kunststoffen als Werkstoff für großflächige Strukturbauteile\nDipl.-Ing. Gert Sedlacik
ORGANIZER:MAILTO:khen@hrz.tu-chemnitz.de
UID:4712@www.tu-chemnitz.de
CREATED:20040430T103900Z
DTSTAMP:20210802T200721Z
END:VEVENT
END:VCALENDAR
