BEGIN:VCALENDAR
VERSION:2.0
PRODID:TU Chemnitz
METHOD:PUBLISH
X-WR-CALNAME:Veranstaltungen der TU Chemnitz
X-WR-TIMEZONE:Europe/Berlin
BEGIN:VEVENT
CLASS:PUBLIC
DTSTART;TZID="Europe/Berlin":20040620T170000
DTEND;TZID="Europe/Berlin":20040621T020000
LOCATION:Kompass\, Thüringer Weg 3
SUMMARY:Fête de la musique - umsonst\, drinnen & draußen (Club der Kulturen)
DESCRIPTION:Wie letztes Jahr\,laden wir alle ein\, ihr musikalisches Können ungezwungen einem begeisterungsfähigen Publikum unter Beweis zu stellen.\nAlso: Packt Eure Instrumente ein (Klavier steht schon)\, ölt Eure Stimme; ihr gestaltet das Programm.\nClub der Kulturen\nkulturen@tu-chemnitz.de
ORGANIZER:MAILTO:vasas@hrz.tu-chemnitz.de
UID:4699@www.tu-chemnitz.de
CREATED:20040428T191000Z
DTSTAMP:20210802T200752Z
END:VEVENT
END:VCALENDAR
