BEGIN:VCALENDAR
VERSION:2.0
PRODID:TU Chemnitz
METHOD:PUBLISH
X-WR-CALNAME:Veranstaltungen der TU Chemnitz
X-WR-TIMEZONE:Europe/Berlin
BEGIN:VEVENT
CLASS:PUBLIC
DTSTART;TZID="Europe/Berlin":20040430T210000
DTEND;TZID="Europe/Berlin":20040501T030000
LOCATION:PEB-Studentenkeller\, Reichenhainer Str.37
SUMMARY:Salsa-Night im PEB (PEB-Studentenkeller)
DESCRIPTION:  \nUnd wieder einmal heißt es:\nHeiße Salsa-Klänge im PEB!\n\nMit Tanzkurs ab 21Uhr!\n\nDazu erfrischende Cocktails \nund andere Getränke zu gewohnt \ngünstigen Preisen!\n
ORGANIZER:MAILTO:thein@hrz.tu-chemnitz.de
UID:4691@www.tu-chemnitz.de
CREATED:20040427T104800Z
DTSTAMP:20210802T200943Z
END:VEVENT
END:VCALENDAR
