BEGIN:VCALENDAR
VERSION:2.0
PRODID:TU Chemnitz
METHOD:PUBLISH
X-WR-CALNAME:Veranstaltungen der TU Chemnitz
X-WR-TIMEZONE:Europe/Berlin
BEGIN:VEVENT
CLASS:PUBLIC
DTSTART;TZID="Europe/Berlin":19990430T130000
DTEND;TZID="Europe/Berlin":19990430T153000
LOCATION:Uni-Teil 3: Reichenhainer Str. 70\, Chemnitz (Zentr. Hörsaal- und Seminargebäude)
SUMMARY:Auf dem Weg zur digitalen Bibliothek - Neue und fortgeführte Serviceleistungen der sächsischen Hochschulbibliotheken (Universitätsbibliothek)
DESCRIPTION:Workshop mit Präsentation von "Springer-LINK" (Elektronische \nZeitschriften) und des Inhaltsverzeichnis-Dienstes von SwetsNet/\nSwetScan (14.000 Zeitschriften)\nu.a. Dr. Karin Bocek\nDr. Karin Bocek\, Tel. 0371/531-1295\, karin.bocek@bibliothek.tu-chemnitz.de
ORGANIZER:MAILTO:mstein@hrz.tu-chemnitz.de
UID:469@www.tu-chemnitz.de
CREATED:19990422T162000Z
DTSTAMP:20210802T203437Z
END:VEVENT
END:VCALENDAR
