BEGIN:VCALENDAR
VERSION:2.0
PRODID:TU Chemnitz
METHOD:PUBLISH
X-WR-CALNAME:Veranstaltungen der TU Chemnitz
X-WR-TIMEZONE:Europe/Berlin
BEGIN:VEVENT
CLASS:PUBLIC
DTSTART;TZID="Europe/Berlin":19990602T163000
DTEND;TZID="Europe/Berlin":19990602T180000
LOCATION:Uni-Teil 3: Reichenhainer Str. 70\, Chemnitz (Zentr. Hörsaal- und Seminargebäude)
SUMMARY:Physikalisches Kolloquium: "Nichtlineare dynamische Prozesse im Verkehrsfluss" (Fakultät für Naturwissenschaften\, Institut für Physik)
DESCRIPTION:Prof. Dr. Michael Schreckenberg (Univ. Duisburg)\nProf. Dr. Michael Schreiber \, Tel. 531 3142
ORGANIZER:MAILTO:m.fleischer@physik.tu-chemnitz.de
UID:468@www.tu-chemnitz.de
CREATED:19990422T152900Z
DTSTAMP:20210802T203411Z
END:VEVENT
END:VCALENDAR
