BEGIN:VCALENDAR
VERSION:2.0
PRODID:TU Chemnitz
METHOD:PUBLISH
X-WR-CALNAME:Veranstaltungen der TU Chemnitz
X-WR-TIMEZONE:Europe/Berlin
BEGIN:VEVENT
CLASS:PUBLIC
DTSTART;TZID="Europe/Berlin":20040512T205500
DTEND;TZID="Europe/Berlin":20040513T023000
LOCATION:PEB-Studentenkeller\, Reichenhainer Str.37
SUMMARY:Cocktailabend im PEB (PEB-Studentenkeller)
DESCRIPTION:  \nEs ist wieder soweit - Party in allen 3 \nRäumen des PEB. Dazu die umfangreichste\nCocktailkarte des gesamten Campus - eine\nAuswahl von über 140 Cocktails!\n\n2 DJ's\, eine Live-Band!\n\nEintritt: 0.80 Cent!
ORGANIZER:MAILTO:thein@hrz.tu-chemnitz.de
UID:4673@www.tu-chemnitz.de
CREATED:20040423T143500Z
DTSTAMP:20210802T200857Z
END:VEVENT
END:VCALENDAR
