BEGIN:VCALENDAR
VERSION:2.0
PRODID:TU Chemnitz
METHOD:PUBLISH
X-WR-CALNAME:Veranstaltungen der TU Chemnitz
X-WR-TIMEZONE:Europe/Berlin
BEGIN:VEVENT
CLASS:PUBLIC
DTSTART;TZID="Europe/Berlin":20040622T153000
DTEND;TZID="Europe/Berlin":20040622T170000
LOCATION:Str. der Nationen 62\, Chemnitz (Böttcher-Bau)
SUMMARY:Metallorganisch substituierte Hauptgruppenelement-Verbindungen als vielseitige Bausteine für neuartige Ringe\, Käfige und Koordinationspolymere (Fakultät für Naturwissenschaften\, Institut für Chemie)
DESCRIPTION:Prof. Dr. Kurt Merzweiler\, Institut für Anorganische Chemie der Martin-Luther-Universität Halle-Wittenberg\nProf. Dr. Heinrich Lang\, fon: 0371/531-1673\, e-mail: heinrich.lang@chemie.tu-chemnitz.de
ORGANIZER:MAILTO:erah@hrz.tu-chemnitz.de
UID:4654@www.tu-chemnitz.de
CREATED:20040421T133900Z
DTSTAMP:20210802T200758Z
END:VEVENT
END:VCALENDAR
