BEGIN:VCALENDAR
VERSION:2.0
PRODID:TU Chemnitz
METHOD:PUBLISH
X-WR-CALNAME:Veranstaltungen der TU Chemnitz
X-WR-TIMEZONE:Europe/Berlin
BEGIN:VEVENT
CLASS:PUBLIC
DTSTART;TZID="Europe/Berlin":20040506T200000
DTEND;TZID="Europe/Berlin":20040506T220000
LOCATION:Str. der Nationen 62\, Chemnitz (Böttcher-Bau)
SUMMARY:AgricolaFORUM: Johann Wolfgang von Goethes Entdeckung der Langsamkeit (TU Chemnitz\, WTH-Geschichte / Institut für Physik)
DESCRIPTION:Alles "veloziferisch"\, so lautet Goethes hochaktuelle Formel der Moderne\, die sich in übereiltem Denken und Handeln widerspiegelt und vor dem Hintergrund zentraler Probleme des 21. Jahrhunderts besprochen wird.\nDr. Manfred Osten\, Generalsekretär der A. v. Humboldt-Stiftung\nProf. Dr. Naumann/Prof. Dr. Schreiber/ Dr. Morawetz
ORGANIZER:MAILTO:fna@hrz.tu-chemnitz.de
UID:4645@www.tu-chemnitz.de
CREATED:20040420T122800Z
DTSTAMP:20210802T200901Z
END:VEVENT
END:VCALENDAR
