BEGIN:VCALENDAR
VERSION:2.0
PRODID:TU Chemnitz
METHOD:PUBLISH
X-WR-CALNAME:Veranstaltungen der TU Chemnitz
X-WR-TIMEZONE:Europe/Berlin
BEGIN:VEVENT
CLASS:PUBLIC
DTSTART;TZID="Europe/Berlin":20040416T210000
DTEND;TZID="Europe/Berlin":20040416T210000
LOCATION:Bunker-Club * Chemnitz * Rosenplatz
SUMMARY:[Bunker] Normahl + Overdose (live)
DESCRIPTION:Die Deutsch-Punk-Ikonen in Chemnitz - und fast auf den Campus.\nWer alte Männer erwartet\, die kurz vor der Pensionierung nochmal Groupies backstage einladen wollen\, sollte lieber die Pogoschritte üben. Sie treten den Plastikpunks immernoch in den Arsch.
ORGANIZER:MAILTO:schneid@hrz.tu-chemnitz.de
UID:4633@www.tu-chemnitz.de
CREATED:20040416T174600Z
DTSTAMP:20210802T200936Z
END:VEVENT
END:VCALENDAR
