BEGIN:VCALENDAR
VERSION:2.0
PRODID:TU Chemnitz
METHOD:PUBLISH
X-WR-CALNAME:Veranstaltungen der TU Chemnitz
X-WR-TIMEZONE:Europe/Berlin
BEGIN:VEVENT
CLASS:PUBLIC
DTSTART;TZID="Europe/Berlin":20040428T113000
DTEND;TZID="Europe/Berlin":20040428T151500
LOCATION:Reichenhainer Str. 90\, Chemnitz (Zentr. Hörsaal- und Seminargebäude)
SUMMARY:Innovative Produktionswirtschaft - wie halten wir Produktion in Deutschland (Fakultät für Maschinenbau\, Professur für Werkzeugmaschinen)
DESCRIPTION:Aus der Geschichte lernen: Phasensprünge der Produktionstechnik; Zum Selbstverständnis der Produktionswissenschaft: Produktivität und Qualität;\nProf. em. Dr. h.c. mult. Dr.-Ing. E.h. Dr.-Ing. Günter Spur\, TU Berlin
ORGANIZER:MAILTO:nfu@hrz.tu-chemnitz.de
UID:4625@www.tu-chemnitz.de
CREATED:20040415T121700Z
DTSTAMP:20210802T200943Z
END:VEVENT
END:VCALENDAR
