BEGIN:VCALENDAR
VERSION:2.0
PRODID:TU Chemnitz
METHOD:PUBLISH
X-WR-CALNAME:Veranstaltungen der TU Chemnitz
X-WR-TIMEZONE:Europe/Berlin
BEGIN:VEVENT
CLASS:PUBLIC
DTSTART;TZID="Europe/Berlin":20040419T190000
DTEND;TZID="Europe/Berlin":20040419T220000
LOCATION:Café Markt IV
SUMMARY:RCDS Mitgliederversammlung und anschließend Stammtisch (Ring Christlich-Demokratischer Studenten Hochschulgruppe Chemnitz)
DESCRIPTION:\nMach mit bei der größten politischen Hochschulgruppe an der TU Chemnitz!\n\nUnsere Mitgliederversammlung bietet Dir einen erstklassigen Einstieg\, unsere motivierte Mitgliederschaft kennen zu lernen!\n\n\nRCDS - Projekt Zukunft.\nrcds@tu-chemnitz.de
ORGANIZER:MAILTO:marck@hrz.tu-chemnitz.de
UID:4621@www.tu-chemnitz.de
CREATED:20040414T121400Z
DTSTAMP:20210802T200942Z
END:VEVENT
END:VCALENDAR
