BEGIN:VCALENDAR
VERSION:2.0
PRODID:TU Chemnitz
METHOD:PUBLISH
X-WR-CALNAME:Veranstaltungen der TU Chemnitz
X-WR-TIMEZONE:Europe/Berlin
BEGIN:VEVENT
CLASS:PUBLIC
DTSTART;TZID="Europe/Berlin":20040702T110000
DTEND;TZID="Europe/Berlin":20040702T170000
LOCATION:Reichenhainer Str. 90\, Chemnitz (Zentr. Hörsaal- und Seminargebäude)
SUMMARY:Wissenschaftliches Schreiben (Examensarbeiten) Teil 1 (Schreibzentrum im FG Germanistik)
DESCRIPTION:Kreative Übungen zu allen Aspekten des Schreibens von Examensarbeiten: Arbeitsorganisation\, wissenschaftliche Standards\, Themenfindung/-eingrenzung\, Literaturrecherche\, Lesen\, Gliedern\, Formulieren\, Überarbeiten\nDr. Monika Hähnel\nAnmeldung auf Homepage des SZ unter >Veranstaltungen<
ORGANIZER:MAILTO:mkl@hrz.tu-chemnitz.de
UID:4594@www.tu-chemnitz.de
CREATED:20040407T124200Z
DTSTAMP:20210802T200720Z
END:VEVENT
END:VCALENDAR
