BEGIN:VCALENDAR
VERSION:2.0
PRODID:TU Chemnitz
METHOD:PUBLISH
X-WR-CALNAME:Veranstaltungen der TU Chemnitz
X-WR-TIMEZONE:Europe/Berlin
BEGIN:VEVENT
CLASS:PUBLIC
DTSTART;TZID="Europe/Berlin":20040619T090000
DTEND;TZID="Europe/Berlin":20040619T140000
LOCATION:Reichenhainer Str. 70\, Chemnitz (Weinhold-Bau)
SUMMARY:Orthografie (Schreibzentrum im FG Germanistik)
DESCRIPTION:Übungen zur Grundlagen der (neuen) Orthografie (Interpunktion\, Klein- und Großschreibung\, Getrennt- und Zusammenschreibung) etc. – empfohlen für Studierende aller Semester\nDr. Ruth Geier\nAnmeldung online auf der Homepage des SZ unter >Veranstaltungen<
ORGANIZER:MAILTO:mkl@hrz.tu-chemnitz.de
UID:4591@www.tu-chemnitz.de
CREATED:20040407T123000Z
DTSTAMP:20210802T200805Z
END:VEVENT
END:VCALENDAR
