BEGIN:VCALENDAR
VERSION:2.0
PRODID:TU Chemnitz
METHOD:PUBLISH
X-WR-CALNAME:Veranstaltungen der TU Chemnitz
X-WR-TIMEZONE:Europe/Berlin
BEGIN:VEVENT
CLASS:PUBLIC
DTSTART;TZID="Europe/Berlin":20040607T171500
DTEND;TZID="Europe/Berlin":20040607T184500
LOCATION:Pegasus-Center\, Chemnitz
SUMMARY:Grundlagen der elektronischen Fachinformation (Universitätsbibliothek)
DESCRIPTION:Dieser Kurs besteht aus 3 Lehreinheiten und wird am 14.6. und 21.6. fortgesetzt.\nAnmeldung unter: nutzerschulung@bibliothek.tu-chemnitz.de
ORGANIZER:MAILTO:angela.malz@hrz.tu-chemnitz.de
UID:4582@www.tu-chemnitz.de
CREATED:20040407T100800Z
DTSTAMP:20210802T200802Z
END:VEVENT
END:VCALENDAR
