BEGIN:VCALENDAR
VERSION:2.0
PRODID:TU Chemnitz
METHOD:PUBLISH
X-WR-CALNAME:Veranstaltungen der TU Chemnitz
X-WR-TIMEZONE:Europe/Berlin
BEGIN:VEVENT
CLASS:PUBLIC
DTSTART;TZID="Europe/Berlin":20040504T150000
DTEND;TZID="Europe/Berlin":20040504T160000
LOCATION:Str. der Nationen 62\, Chemnitz (Böttcher-Bau)
SUMMARY:Führung durch die Zentralbibliothek (Universitätsbibliothek)
DESCRIPTION:keine Anmeldung erforderlich
ORGANIZER:MAILTO:angela.malz@bibliothek.tu-chemnitz.de
UID:4572@www.tu-chemnitz.de
CREATED:20040407T085600Z
DTSTAMP:20210802T200903Z
END:VEVENT
END:VCALENDAR
