BEGIN:VCALENDAR
VERSION:2.0
PRODID:TU Chemnitz
METHOD:PUBLISH
X-WR-CALNAME:Veranstaltungen der TU Chemnitz
X-WR-TIMEZONE:Europe/Berlin
BEGIN:VEVENT
CLASS:PUBLIC
DTSTART;TZID="Europe/Berlin":20040406T183000
DTEND;TZID="Europe/Berlin":20040406T190000
LOCATION:
SUMMARY:TV-Beitrag "Sicher Spritzen" in der Sendung "nano" (3sat) (TU Chemnitz\, Pressestelle)
DESCRIPTION:"nano" berichtet über ein aktuelles Forschungsprojekt der Professur Kunststofftechnik der TU Chemnitz
ORGANIZER:MAILTO:mstein@hrz.tu-chemnitz.de
UID:4562@www.tu-chemnitz.de
CREATED:20040406T123200Z
DTSTAMP:20210802T200940Z
END:VEVENT
END:VCALENDAR
