BEGIN:VCALENDAR
VERSION:2.0
PRODID:TU Chemnitz
METHOD:PUBLISH
X-WR-CALNAME:Veranstaltungen der TU Chemnitz
X-WR-TIMEZONE:Europe/Berlin
BEGIN:VEVENT
CLASS:PUBLIC
DTSTART;TZID="Europe/Berlin":20040423T220000
DTEND;TZID="Europe/Berlin":20040424T050000
LOCATION:Reichenhainer Str. 55\, Chemnitz (Mensa)
SUMMARY:>>>Chaos and Art - Clubbing<<< (Chaos and Art)
DESCRIPTION:\n1st: House - DJ Bracket (T.O.A.S.T. Records DD)\, DJ Alex Hensen (C-Town)\, DJ Culture (DD)\n\n2nd: X-Over - DJ Pieps (Zwickau)\n\n3rd: Drum'n'Bass - DJ Albreax and DJ Ton Tastic (High Finesse - DD)\n\nChill Out: Echomaniac Sound (C-Town)\n\nEntry: 4\,- Euro
ORGANIZER:MAILTO:hoga@hrz.tu-chemnitz.de
UID:4558@www.tu-chemnitz.de
CREATED:20040406T030000Z
DTSTAMP:20210802T200934Z
END:VEVENT
END:VCALENDAR
