BEGIN:VCALENDAR
VERSION:2.0
PRODID:TU Chemnitz
METHOD:PUBLISH
X-WR-CALNAME:Veranstaltungen der TU Chemnitz
X-WR-TIMEZONE:Europe/Berlin
BEGIN:VEVENT
CLASS:PUBLIC
DTSTART;TZID="Europe/Berlin":20040403T210000
DTEND;TZID="Europe/Berlin":20040404T030000
LOCATION:(Der neue) Bunker * Chemnitz * Rosenplatz 7
SUMMARY:[Bunker] TARANTINO - PARTY
DESCRIPTION:Der BUNKER ist NEU und NICHT mehr NUR Punkrock! Und so gibt's heute: \n\nMUSIK vom Band und FILMSEQUENZEN an der Wand ...\n\nEine PARTY rund um die genialen Soundtracks und alles was mit den Filmen vom grossen Meister zu tun hat.\n- Tequila Price Specials -
ORGANIZER:MAILTO:schneid@hrz.tu-chemnitz.de
UID:4543@www.tu-chemnitz.de
CREATED:20040403T150400Z
DTSTAMP:20210802T200937Z
END:VEVENT
END:VCALENDAR
