BEGIN:VCALENDAR
VERSION:2.0
PRODID:TU Chemnitz
METHOD:PUBLISH
X-WR-CALNAME:Veranstaltungen der TU Chemnitz
X-WR-TIMEZONE:Europe/Berlin
BEGIN:VEVENT
CLASS:PUBLIC
DTSTART;TZID="Europe/Berlin":19990506T181500
DTEND;TZID="Europe/Berlin":19990506T200000
LOCATION:Uni-Teil 3: Reichenhainer Str. 70\, Chemnitz (Zentr. Hörsaal- und Seminargebäude)
SUMMARY:Die Politisierung bürgerlicher und unterbürgerlicher Schichten im preußischen Rheinland 1815-1848 (Philosophische Fakultät\, Geschichte des Mittelalters / Wirtschafts- und Sozialgeschichte)
DESCRIPTION:Prof. Dr. James Brophy (Delaware / Düsseldorf)\nnorbert.schnitzler@phil.tu-chemnitz.de
ORGANIZER:MAILTO:nosc@hrz.tu-chemnitz.de
UID:454@www.tu-chemnitz.de
CREATED:19990420T101100Z
DTSTAMP:20210802T203420Z
END:VEVENT
END:VCALENDAR
