BEGIN:VCALENDAR
VERSION:2.0
PRODID:TU Chemnitz
METHOD:PUBLISH
X-WR-CALNAME:Veranstaltungen der TU Chemnitz
X-WR-TIMEZONE:Europe/Berlin
BEGIN:VEVENT
CLASS:PUBLIC
DTSTART;TZID="Europe/Berlin":20040401T210000
DTEND;TZID="Europe/Berlin":20040401T230000
LOCATION:Reichenhainer Str. 35/37 Keller 09126 Chemnitz
SUMMARY:[Kino im mittendrin]: El Ultimo Tren - Der letzte Zug (Filmclub mittendrin)
DESCRIPTION:Ein das Herz rührendes Anarcho-Stück aus Uruguay. Drei alte\nMänner entführen eine alte Dampflok nach Brasilien um den\n(Aus-)Verkauf nach Hollywood zu verhindern.\n\nEinlass: 20.30 Uhr\nBeginn: 21.00 Uhr\nEintritt: € 3\,-\nwww.filmclub-mittendrin.de
ORGANIZER:MAILTO:fuh@hrz.tu-chemnitz.de
UID:4536@www.tu-chemnitz.de
CREATED:20040331T145700Z
DTSTAMP:20210802T200944Z
END:VEVENT
END:VCALENDAR
