BEGIN:VCALENDAR
VERSION:2.0
PRODID:TU Chemnitz
METHOD:PUBLISH
X-WR-CALNAME:Veranstaltungen der TU Chemnitz
X-WR-TIMEZONE:Europe/Berlin
BEGIN:VEVENT
CLASS:PUBLIC
DTSTART;TZID="Europe/Berlin":19990422T181500
DTEND;TZID="Europe/Berlin":19990422T200000
LOCATION:Uni-Teil 3: Reichenhainer Str. 70\, Chemnitz (Zentr. Hörsaal- und Seminargebäude)
SUMMARY:Böhmische Exulanten in Sachsen. Migration in der Frühen Neuzeit zwischen Mikro- und Makrogeschichte (Philosophische Fakultät\, Geshcichte des Mittelalters / Wirtschafts- und Sozialgeschichte)
DESCRIPTION:Wulf Wäntig M.A. (Chemnitz)\nnorbert.schnitzler@phil.tu-chemnitz.de
ORGANIZER:MAILTO:nosc@hrz.tu-chemnitz.de
UID:453@www.tu-chemnitz.de
CREATED:19990420T100900Z
DTSTAMP:20210802T203439Z
END:VEVENT
END:VCALENDAR
