BEGIN:VCALENDAR
VERSION:2.0
PRODID:TU Chemnitz
METHOD:PUBLISH
X-WR-CALNAME:Veranstaltungen der TU Chemnitz
X-WR-TIMEZONE:Europe/Berlin
BEGIN:VEVENT
CLASS:PUBLIC
DTSTART;TZID="Europe/Berlin":20040327T090000
DTEND;TZID="Europe/Berlin":20040327T130000
LOCATION:Agentur für Arbeit Oschatz\, BIZ\, Oststraße 3
SUMMARY:Aktionstag für Abiturienten und Fachoberschüler im Berufsinformationszentrum (BIZ) Oschatz (BIZ Oschatz)
DESCRIPTION:Im Rahmen des Aktionstages für Abiturienten und Fachoberschüler im BIZ der Agentur für Arbeit Oschatz informiert und berät die Zentrale Studienberatung der TU Chemnitz u.a. über Studienmöglichkeiten\, Abschlüsse\, Studienbedingungen der Uni in Chemnitz.\nTechnische Universität Chemnitz\, Zentrale Studienberatung
ORGANIZER:MAILTO:bato@hrz.tu-chemnitz.de
UID:4511@www.tu-chemnitz.de
CREATED:20040323T121800Z
DTSTAMP:20210802T201030Z
END:VEVENT
END:VCALENDAR
