BEGIN:VCALENDAR
VERSION:2.0
PRODID:TU Chemnitz
METHOD:PUBLISH
X-WR-CALNAME:Veranstaltungen der TU Chemnitz
X-WR-TIMEZONE:Europe/Berlin
BEGIN:VEVENT
CLASS:PUBLIC
DTSTART;TZID="Europe/Berlin":20040422T153000
DTEND;TZID="Europe/Berlin":20040422T170000
LOCATION:Reichenhainer Str. 90\, Chemnitz (Zentr. Hörsaal- und Seminargebäude)
SUMMARY:Kolloquium des Sonderforschungsbereiches 379 "Mikromechanische Sensor- und Aktorarrays" : Marketing für technische Innovationen (Fakultät für Elektrotechnik und Informationstechnik\, Zentrum für Mikrotechnologien (ZfM))
DESCRIPTION:Frau Prof. Dr. Cornelia Zanger\, TU Chemnitz\, Lehrstuhl für Marketing und Handelsbetriebslehre\nDr. Wolfgang Seckel\, Tel. 531 3261
ORGANIZER:MAILTO:seckel@hrz.tu-chemnitz.de
UID:4508@www.tu-chemnitz.de
CREATED:20040322T151800Z
DTSTAMP:20210802T200946Z
END:VEVENT
END:VCALENDAR
