BEGIN:VCALENDAR
VERSION:2.0
PRODID:TU Chemnitz
METHOD:PUBLISH
X-WR-CALNAME:Veranstaltungen der TU Chemnitz
X-WR-TIMEZONE:Europe/Berlin
BEGIN:VEVENT
CLASS:PUBLIC
DTSTART;TZID="Europe/Berlin":20040324T213000
DTEND;TZID="Europe/Berlin":20040325T020000
LOCATION:PEB-Studentenkeller\, Reichenhainer Str.37
SUMMARY:PEB-Mittwochsdisco (PEB-Studentenkeller)
DESCRIPTION:  \nAuch diese Woche wieder: Party am \nMittwochabend im PEB!! Freunde treffen\,\nCocktails schlürfen\, abtanzen\, Spaß\nhaben...\n\nDas ganze zu den gewohnt günstigen Preisen!\n
ORGANIZER:MAILTO:thein@hrz.tu-chemnitz.de
UID:4500@www.tu-chemnitz.de
CREATED:20040319T112600Z
DTSTAMP:20210802T201032Z
END:VEVENT
END:VCALENDAR
