BEGIN:VCALENDAR
VERSION:2.0
PRODID:TU Chemnitz
METHOD:PUBLISH
X-WR-CALNAME:Veranstaltungen der TU Chemnitz
X-WR-TIMEZONE:Europe/Berlin
BEGIN:VEVENT
CLASS:PUBLIC
DTSTART;TZID="Europe/Berlin":19990511T160000
DTEND;TZID="Europe/Berlin":19990511T180000
LOCATION:Uni-Teil 1: Str. der Nationen 62\, Chemnitz (Böttcher-Bau)
SUMMARY:Richard-Willstätter-Vorlesung der GDCh: Structuring the Solid-Liquid Interface with Self-Assembled Monolayers: From Selective Electrodes to Two-Dimensional Conduting Polymers (Fakultät für Naturwissenschaften\, Institut für Chemie)
DESCRIPTION:Dr. Daniel Mandler\, The Hebrew University of Jerusalem\nProf. Dr. Klaus Banert\, fon (0371) 531 1463\, fax (0371 531 1839\, klaus.banert@chemie.tu-chemnitz.de
ORGANIZER:MAILTO:erah@hrz.tu-chemnitz.de
UID:450@www.tu-chemnitz.de
CREATED:19990419T074600Z
DTSTAMP:20210802T203425Z
END:VEVENT
END:VCALENDAR
