BEGIN:VCALENDAR
VERSION:2.0
PRODID:TU Chemnitz
METHOD:PUBLISH
X-WR-CALNAME:Veranstaltungen der TU Chemnitz
X-WR-TIMEZONE:Europe/Berlin
BEGIN:VEVENT
CLASS:PUBLIC
DTSTART;TZID="Europe/Berlin":20040403T090000
DTEND;TZID="Europe/Berlin":20040403T130000
LOCATION:BIZ Riesa\, Alleestr. 68\, 01591 Riesa
SUMMARY:Hochschultag im Berufsinformationszentrum (BIZ) Riesa (BIZ Riesa)
DESCRIPTION:Im Rahmen des Hochschultages im BIZ Riesa informiert und berät die Zentrale Studienberatung der TU Chemnitz u.a. über Studienmöglichkeiten\, Abschlüsse\, Studienbedingungen der Uni in Chemnitz.\nTechnische Universität Chemnitz\, Zentrale Studienberatung
ORGANIZER:MAILTO:hev@hrz.tu-chemnitz.de
UID:4499@www.tu-chemnitz.de
CREATED:20040318T124900Z
DTSTAMP:20210802T200941Z
END:VEVENT
END:VCALENDAR
