BEGIN:VCALENDAR
VERSION:2.0
PRODID:TU Chemnitz
METHOD:PUBLISH
X-WR-CALNAME:Veranstaltungen der TU Chemnitz
X-WR-TIMEZONE:Europe/Berlin
BEGIN:VEVENT
CLASS:PUBLIC
DTSTART;TZID="Europe/Berlin":20040331T200000
DTEND;TZID="Europe/Berlin":20040331T235900
LOCATION:Reichenhainer Str. 55\, Chemnitz (Mensa)
SUMMARY:TaC: Sportkneipe Deutschland gegen Belgien (TaC)
DESCRIPTION:Jou...live aus Köln...wie immer auf Großleinwand....und dazu gibts von Dooley´s - ein alkoholisches Special ....Kauf 2 und bekomm ein Glas dazu...und außerdem sollte Hinkel und Lahm spielen Rudi....nu....\nDFB
ORGANIZER:MAILTO:made@hrz.tu-chemnitz.de
UID:4489@www.tu-chemnitz.de
CREATED:20040317T202900Z
DTSTAMP:20210802T201029Z
END:VEVENT
END:VCALENDAR
