BEGIN:VCALENDAR
VERSION:2.0
PRODID:TU Chemnitz
METHOD:PUBLISH
X-WR-CALNAME:Veranstaltungen der TU Chemnitz
X-WR-TIMEZONE:Europe/Berlin
BEGIN:VEVENT
CLASS:PUBLIC
DTSTART;TZID="Europe/Berlin":20040310T213000
DTEND;TZID="Europe/Berlin":20040311T020000
LOCATION:PEB-Studentenkeller\, Reichenhainer Str.37
SUMMARY:PEB-Mittwochsdisco (PEB-Studentenkeller)
DESCRIPTION:  \nFür alle Hiergebliebenen - die große \nMittwochsparty im PEB findet auch \nwährend den Ferien statt!\n
ORGANIZER:MAILTO:thein@hrz.tu-chemnitz.de
UID:4456@www.tu-chemnitz.de
CREATED:20040305T171400Z
DTSTAMP:20210802T201026Z
END:VEVENT
END:VCALENDAR
