BEGIN:VCALENDAR
VERSION:2.0
PRODID:TU Chemnitz
METHOD:PUBLISH
X-WR-CALNAME:Veranstaltungen der TU Chemnitz
X-WR-TIMEZONE:Europe/Berlin
BEGIN:VEVENT
CLASS:PUBLIC
DTSTART;TZID="Europe/Berlin":20040325T210000
DTEND;TZID="Europe/Berlin":20040325T230000
LOCATION:Reichenhainer Str. 35/37 Keller 09126 Chemnitz
SUMMARY:[Kino im mittendrin]: Gasoline (TU Chemnitz\, Filmclub mittendrin)
DESCRIPTION:Lenni in Not: Ihre Mutter will nicht glauben\, dass sie lesbisch ist\, macht Lenni das Leben zur Hölle. Bis Mami eines Tages tot aufgefunden wird.\n\nEinlass: 20.30 Uhr\nBeginn: 21.00 Uhr\nEintritt: € 3\,-\nwww.filmclub-mittendrin.de
ORGANIZER:MAILTO:fuh@hrz.tu-chemnitz.de
UID:4448@www.tu-chemnitz.de
CREATED:20040303T160900Z
DTSTAMP:20210802T201031Z
END:VEVENT
END:VCALENDAR
