BEGIN:VCALENDAR
VERSION:2.0
PRODID:TU Chemnitz
METHOD:PUBLISH
X-WR-CALNAME:Veranstaltungen der TU Chemnitz
X-WR-TIMEZONE:Europe/Berlin
BEGIN:VEVENT
CLASS:PUBLIC
DTSTART;TZID="Europe/Berlin":20040311T210000
DTEND;TZID="Europe/Berlin":20040311T230000
LOCATION:Reichenhainer Str. 35/37 Keller 09126 Chemnitz
SUMMARY:[Kino im mittendrin]: Out of EDEKA (Filmclub mittendrin)
DESCRIPTION:Ein Film der schräger nicht sein könnte - Konstatin \nFaigle dokumentiert einen Edeka Laden\, seine Eltern und \nsein Leben auf eine ganz neue Art und Weise. (OmdU -\nSchwäbisch mit deutschen Untertiteln)\n\nEinlass: 20.30 Uhr\nBeginn: 21.00 Uhr\nEintritt: € 3\,-\nwww.filmclub-mittendrin.de
ORGANIZER:MAILTO:fuh@hrz.tu-chemnitz.de
UID:4446@www.tu-chemnitz.de
CREATED:20040303T160500Z
DTSTAMP:20210802T201031Z
END:VEVENT
END:VCALENDAR
