BEGIN:VCALENDAR
VERSION:2.0
PRODID:TU Chemnitz
METHOD:PUBLISH
X-WR-CALNAME:Veranstaltungen der TU Chemnitz
X-WR-TIMEZONE:Europe/Berlin
BEGIN:VEVENT
CLASS:PUBLIC
DTSTART;TZID="Europe/Berlin":20040415T200000
DTEND;TZID="Europe/Berlin":20040415T235900
LOCATION:Reichenhainer Str. 55\, Chemnitz (Mensa)
SUMMARY:TaC: Keimzeit in Concert: Norbert Leisegang (Norbert Leisegang)
DESCRIPTION:Musikalische Lesung mit Norbert Leisegang und Frank Braun\, der Sänger und Autor der KEIMZEIT-Songs Zwischen den Werken des über\n20jährigen Keimzeit-Tourgeschehens gibt es manche Anekdote aus den musengeküssten Häuptern der beiden.
ORGANIZER:MAILTO:made@hrz.tu-chemnitz.de
UID:4442@www.tu-chemnitz.de
CREATED:20040302T094700Z
DTSTAMP:20210802T200936Z
END:VEVENT
END:VCALENDAR
