BEGIN:VCALENDAR
VERSION:2.0
PRODID:TU Chemnitz
METHOD:PUBLISH
X-WR-CALNAME:Veranstaltungen der TU Chemnitz
X-WR-TIMEZONE:Europe/Berlin
BEGIN:VEVENT
CLASS:PUBLIC
DTSTART;TZID="Europe/Berlin":20040426T120000
DTEND;TZID="Europe/Berlin":20040426T120000
LOCATION:Reichenhainer Str. 90\, Chemnitz (Zentr. Hörsaal- und Seminargebäude)
SUMMARY:Habilitation (Fakultät für Maschinenbau)
DESCRIPTION:Probevorlesung zum Habilitationsverfahren\nDas Eisen-Kohlenstoff-Diagramm - Grundlage für die Wärmebehandlung der Stähle\nDr.-Ing.Jochen Schuster
ORGANIZER:MAILTO:khen@hrz.tu-chemnitz.de
UID:4431@www.tu-chemnitz.de
CREATED:20040227T151100Z
DTSTAMP:20210802T200943Z
END:VEVENT
END:VCALENDAR
